BEGIN:VCALENDAR
VERSION:2.0
PRODID:-//Alias Race Management - ECPv6.15.20//NONSGML v1.0//EN
CALSCALE:GREGORIAN
METHOD:PUBLISH
X-WR-CALNAME:Alias Race Management
X-ORIGINAL-URL:https://aliasracemanagement.com
X-WR-CALDESC:Events for Alias Race Management
REFRESH-INTERVAL;VALUE=DURATION:PT1H
X-Robots-Tag:noindex
X-PUBLISHED-TTL:PT1H
BEGIN:VTIMEZONE
TZID:America/Chicago
BEGIN:DAYLIGHT
TZOFFSETFROM:-0600
TZOFFSETTO:-0500
TZNAME:CDT
DTSTART:20220313T080000
END:DAYLIGHT
BEGIN:STANDARD
TZOFFSETFROM:-0500
TZOFFSETTO:-0600
TZNAME:CST
DTSTART:20221106T070000
END:STANDARD
BEGIN:DAYLIGHT
TZOFFSETFROM:-0600
TZOFFSETTO:-0500
TZNAME:CDT
DTSTART:20230312T080000
END:DAYLIGHT
BEGIN:STANDARD
TZOFFSETFROM:-0500
TZOFFSETTO:-0600
TZNAME:CST
DTSTART:20231105T070000
END:STANDARD
BEGIN:DAYLIGHT
TZOFFSETFROM:-0600
TZOFFSETTO:-0500
TZNAME:CDT
DTSTART:20240310T080000
END:DAYLIGHT
BEGIN:STANDARD
TZOFFSETFROM:-0500
TZOFFSETTO:-0600
TZNAME:CST
DTSTART:20241103T070000
END:STANDARD
BEGIN:DAYLIGHT
TZOFFSETFROM:-0600
TZOFFSETTO:-0500
TZNAME:CDT
DTSTART:20250309T080000
END:DAYLIGHT
BEGIN:STANDARD
TZOFFSETFROM:-0500
TZOFFSETTO:-0600
TZNAME:CST
DTSTART:20251102T070000
END:STANDARD
END:VTIMEZONE
BEGIN:VEVENT
DTSTART;TZID=America/Chicago:20241019T093000
DTEND;TZID=America/Chicago:20241019T120000
DTSTAMP:20260423T041207
CREATED:20240916T222942Z
LAST-MODIFIED:20241020T012311Z
UID:2633-1729330200-1729339200@aliasracemanagement.com
SUMMARY:Cahokia Conference Meet 2024
DESCRIPTION:Kaskaskia Division\nBoys’ Results – Varsity        Girls’ Results – Varsity \nIllinois Division\nBoys’ Results – Varsity     Girls’ Results – Varsity\nIllinois/Kaskaskia Team Scores  –  Boys’    Girls’\nMississippi Division\nBoys’ Results – Varsity – Team Scores    Girls’ Results – Varsity – Team Scores\nOverall Boys’ Varsity Placing – Overall Girls’ Varsity Placing
URL:https://aliasracemanagement.com/event/cahokia-conference-meet-2024/
LOCATION:Wesclin High School\, 699 Wesclin Rd.\, Trenton\, Illinois\, 62293
CATEGORIES:2024 Cross Country Race Results
ORGANIZER;CN="Tyler Weis":MAILTO:weist@wesclin.org
END:VEVENT
BEGIN:VEVENT
DTSTART;TZID=America/Chicago:20241017T153000
DTEND;TZID=America/Chicago:20241017T180000
DTSTAMP:20260423T041207
CREATED:20240722T012124Z
LAST-MODIFIED:20241018T135326Z
UID:2557-1729179000-1729188000@aliasracemanagement.com
SUMMARY:SIRR Conference Meet 2024
DESCRIPTION:Ohio Division Results\nVarsity Boys’ – Team Scores           Varsity Girls’ – Team Scores\nMississippi Division Results\nVarsity Boys’ – Team Scores           Varsity Girls’ – Team Scores\nJV Boys’ Results – JV Girls’ Results
URL:https://aliasracemanagement.com/event/sirr-conference-meet-2024/
LOCATION:DuQuoin\, 37.99565149089885\, -89.22884280197285
CATEGORIES:2024 Cross Country Race Results
ORGANIZER;CN="Matt Laur":MAILTO:mlaur@pchspanthers.com
END:VEVENT
BEGIN:VEVENT
DTSTART;TZID=America/Chicago:20241008T160000
DTEND;TZID=America/Chicago:20241008T180000
DTSTAMP:20260423T041207
CREATED:20240914T145122Z
LAST-MODIFIED:20241009T135534Z
UID:2621-1728403200-1728410400@aliasracemanagement.com
SUMMARY:Wesclin SIJHSAA Regional 2024
DESCRIPTION:Boys’ Results –Varsity Results – Team Scores\nGirls’ Results – Varsity Results – Team Scores
URL:https://aliasracemanagement.com/event/wesclin-sijhsaa-regional-2024/
LOCATION:Wesclin High School\, 699 Wesclin Rd.\, Trenton\, Illinois\, 62293
CATEGORIES:2024 Cross Country Race Results
ORGANIZER;CN="Daryl Brokering":MAILTO:brokerid@wesclin.org
END:VEVENT
BEGIN:VEVENT
DTSTART;TZID=America/Chicago:20241005T090000
DTEND;TZID=America/Chicago:20241005T110000
DTSTAMP:20260423T041207
CREATED:20240722T011129Z
LAST-MODIFIED:20241005T203825Z
UID:2555-1728118800-1728126000@aliasracemanagement.com
SUMMARY:Wesclin Invitational 2024
DESCRIPTION:Boys’ Results –Varsity Results – Team Scores\nGirls’ Results – Varsity Results – Team Scores\n 
URL:https://aliasracemanagement.com/event/wesclin-invitational-2024/
LOCATION:Wesclin High School\, 699 Wesclin Rd.\, Trenton\, Illinois\, 62293
CATEGORIES:2024 Cross Country Race Results
ORGANIZER;CN="Tyler Weis":MAILTO:weist@wesclin.org
END:VEVENT
BEGIN:VEVENT
DTSTART;TZID=America/Chicago:20241003T163000
DTEND;TZID=America/Chicago:20241003T190000
DTSTAMP:20260423T041207
CREATED:20240721T010304Z
LAST-MODIFIED:20241003T233629Z
UID:2548-1727973000-1727982000@aliasracemanagement.com
SUMMARY:Chester Invitational 2024
DESCRIPTION:Boys’ Results – Overall – Varsity – Fresh/Soph – Team Scores\nGirls’ Results – Overall – Varsity – Fresh/Soph – Team Scores\nCombined Team Scores
URL:https://aliasracemanagement.com/event/chester-invitational-2024/
LOCATION:Randolph Co Lake\, N. Lake Dr.\, Chester\, IL\, 62233\, United States
CATEGORIES:2024 Cross Country Race Results
ORGANIZER;CN="Jennifer Cartwright":MAILTO:jennycartwright@chester139.com
END:VEVENT
BEGIN:VEVENT
DTSTART;TZID=America/Chicago:20241002T160000
DTEND;TZID=America/Chicago:20241002T170000
DTSTAMP:20260423T041207
CREATED:20240721T010044Z
LAST-MODIFIED:20241003T013939Z
UID:2545-1727884800-1727888400@aliasracemanagement.com
SUMMARY:OVC Conference Meet 2024
DESCRIPTION:Boys’ Results –Varsity Results – Team Scores\nGirls’ Results – Varsity Results – Team Scores
URL:https://aliasracemanagement.com/event/ovc-conference-meet-2024/
LOCATION:Randolph Co Lake JH\, 4380 N. Lake Dr.\, Chester\, Illinois\, 62233
CATEGORIES:2024 Cross Country Race Results
ORGANIZER;CN="Justin Palm":MAILTO:jpalm@stjohnsredbud.org
END:VEVENT
BEGIN:VEVENT
DTSTART;TZID=America/Chicago:20240930T150000
DTEND;TZID=America/Chicago:20240930T180000
DTSTAMP:20260423T041207
CREATED:20240716T014608Z
LAST-MODIFIED:20240930T232306Z
UID:2543-1727708400-1727719200@aliasracemanagement.com
SUMMARY:Pioneer JH/HS Invitational 2024
DESCRIPTION:Boys’ Results –Varsity Results – Team Scores\nGirls’ Results – Varsity Results – Team Scores\nHigh School \nBoys’ Results –Varsity Results – Team Scores\nGirls’ Results – Varsity Results – Team Scores
URL:https://aliasracemanagement.com/event/trico-invitational-2024/
LOCATION:Pyramid Oaks\, 5501 State Rte 4\, Percy\, IL\, 62272\, United States
CATEGORIES:2024 Cross Country Race Results
ORGANIZER;CN="Blake Hampleman":MAILTO:blakehampleman@trico176.org
END:VEVENT
BEGIN:VEVENT
DTSTART;TZID=America/Chicago:20240928T083000
DTEND;TZID=America/Chicago:20240928T230000
DTSTAMP:20260423T041207
CREATED:20240715T193420Z
LAST-MODIFIED:20240929T125015Z
UID:2540-1727512200-1727564400@aliasracemanagement.com
SUMMARY:Freeburg Invitational 2024
DESCRIPTION:Boys’ Results – Varsity Overall – Team Scores – JV Overall – JV Team Scores\nGirls’ Results – Varsity Overall – Team Scores – JV Overall – JV Team Scores
URL:https://aliasracemanagement.com/event/freeburg-invitational-2024/
LOCATION:Smithton Village Park\, Park Rd\, Smithton\, IL\, 62285\, United States
CATEGORIES:2024 Cross Country Race Results
ORGANIZER;CN="Carl Florczyk":MAILTO:florczcd@fchs77.org
END:VEVENT
BEGIN:VEVENT
DTSTART;TZID=America/Chicago:20240924T160000
DTEND;TZID=America/Chicago:20240924T180000
DTSTAMP:20260423T041207
CREATED:20240713T010049Z
LAST-MODIFIED:20240927T152754Z
UID:2538-1727193600-1727200800@aliasracemanagement.com
SUMMARY:Goreville Invitational 2024
DESCRIPTION:Boys’ Results – Varsity Overall – Team Scores\nGirls’ Results – Varsity Overall – Team Scores
URL:https://aliasracemanagement.com/event/goreville-invitational-2024/
LOCATION:Ferne Clyffe State Park\, Ferne Clyffe State Park\, Goreville\, Illinois\, 62939
CATEGORIES:2024 Cross Country Race Results
ORGANIZER;CN="Todd Tripp":MAILTO:toddtripp@gorevilleschools.com
END:VEVENT
BEGIN:VEVENT
DTSTART;TZID=America/Chicago:20240923T160000
DTEND;TZID=America/Chicago:20240923T183000
DTSTAMP:20260423T041207
CREATED:20240713T005006Z
LAST-MODIFIED:20240924T003544Z
UID:2534-1727107200-1727116200@aliasracemanagement.com
SUMMARY:Nashville Invitational 2024 (Cancelled)
DESCRIPTION:This meet was cancelled due to excessive rain on the grass bus parking areas.
URL:https://aliasracemanagement.com/event/2024-nashville-invitational/
LOCATION:Washington County Lake\, 18750 Conservation Dr\,\, Nashville\, IL\, 62263\, United States
CATEGORIES:2024 Cross Country Race Results
ORGANIZER;CN="Jennifer Olson":MAILTO:jolson@nashville-k12.org
END:VEVENT
BEGIN:VEVENT
DTSTART;TZID=America/Chicago:20240917T160000
DTEND;TZID=America/Chicago:20240917T180000
DTSTAMP:20260423T041207
CREATED:20240819T030650Z
LAST-MODIFIED:20240918T012824Z
UID:2573-1726588800-1726596000@aliasracemanagement.com
SUMMARY:Sparta HS Invitational 2024
DESCRIPTION:Boys’ Results – Varsity Overall – Team Scores\nGirls’ Results – Varsity Overall – Team Scores
URL:https://aliasracemanagement.com/event/sparta-hs-invitational-2024/
LOCATION:World Shooting Complex\, 1Main Event Ln #510\, Sparta\, IL\, 62286\, United States
CATEGORIES:2024 Cross Country Race Results
ORGANIZER;CN="Jordan Beckley":MAILTO:jbeckley@sparta140.org
END:VEVENT
BEGIN:VEVENT
DTSTART;TZID=America/Chicago:20240911T160000
DTEND;TZID=America/Chicago:20240911T180000
DTSTAMP:20260423T041207
CREATED:20240709T220229Z
LAST-MODIFIED:20240913T141831Z
UID:2528-1726070400-1726077600@aliasracemanagement.com
SUMMARY:Sparta JH Invitational 2024
DESCRIPTION:Boys’ Results – Varsity Overall – Team Scores\nGirls’ Results – Varsity Overall – Team Scores\nOpen Results – Boys’ – Girls’
URL:https://aliasracemanagement.com/event/sparta-jh-hs-invite-2024/
LOCATION:World Shooting Complex\, 1Main Event Ln #510\, Sparta\, IL\, 62286\, United States
CATEGORIES:2024 Cross Country Race Results
ORGANIZER;CN="Jonathan Norton":MAILTO:jnorton@sparta.k12.il.us
END:VEVENT
BEGIN:VEVENT
DTSTART;TZID=America/Chicago:20240910T170000
DTEND;TZID=America/Chicago:20240910T190000
DTSTAMP:20260423T041207
CREATED:20240709T213345Z
LAST-MODIFIED:20240911T150457Z
UID:2524-1725987600-1725994800@aliasracemanagement.com
SUMMARY:Meteor Invite 2024
DESCRIPTION:Boys’ Results – Varsity Overall – Team Scores\nGirls’ Results – Varsity Overall – Team Scores\n 
URL:https://aliasracemanagement.com/event/meteor-invite-2024/
LOCATION:Marissa Recreation Lake\, 410 State Rt. 4\, Marissa\, IL\, 62257
CATEGORIES:2024 Cross Country Race Results
ORGANIZER;CN="Matt Espenschied":MAILTO:mespenschied@marissa40.org
END:VEVENT
BEGIN:VEVENT
DTSTART;TZID=America/Chicago:20240904T160000
DTEND;TZID=America/Chicago:20240904T180000
DTSTAMP:20260423T041207
CREATED:20240703T003927Z
LAST-MODIFIED:20240905T121207Z
UID:2515-1725465600-1725472800@aliasracemanagement.com
SUMMARY:Murphysboro Invitational 2024
DESCRIPTION:Boys’ Results – Varsity Overall – Team Scores\nGirls’ Results – Varsity Overall – Team Scores
URL:https://aliasracemanagement.com/event/murphysboro-invitational-2024/
LOCATION:Murphysboro High School\, 50 Blackwood Dr.\, Murphysboro\, IL\, 62966\, United States
CATEGORIES:2024 Cross Country Race Results
ORGANIZER;CN="Cody Ellermeyer":MAILTO:cellermeyer@mhs.org
END:VEVENT
BEGIN:VEVENT
DTSTART;TZID=America/Chicago:20240903T180000
DTEND;TZID=America/Chicago:20240903T200000
DTSTAMP:20260423T041207
CREATED:20240703T003151Z
LAST-MODIFIED:20240904T124223Z
UID:2513-1725386400-1725393600@aliasracemanagement.com
SUMMARY:New Athens Invitational 2024
DESCRIPTION:Boys’ Results – Varsity Overall – Team Scores\nGirls’ Results – Varsity Overall – Team Scores
URL:https://aliasracemanagement.com/event/new-athens-invitational-2024/
LOCATION:Okaw Valley Park\, 101 St. Clair St.\,\, New Athens\, IL\, 62264
CATEGORIES:2024 Cross Country Race Results
ORGANIZER;CN="Tony Meyer":MAILTO:tmeyer@na60.org
END:VEVENT
BEGIN:VEVENT
DTSTART;TZID=America/Chicago:20240420T100000
DTEND;TZID=America/Chicago:20240420T160000
DTSTAMP:20260423T041207
CREATED:20240314T010402Z
LAST-MODIFIED:20240420T212340Z
UID:2482-1713607200-1713628800@aliasracemanagement.com
SUMMARY:RBC Invitational Meet April 20\, 2024
DESCRIPTION:Boys’ Individual Results and Team Scores\nGirls’ Individual Results and Team Scores
URL:https://aliasracemanagement.com/event/rbc-invitational-meet-april-20-2024/
LOCATION:Red Bud High School Track\, 601 Westfield Court\, Red Bud\, IL\, 62278\, United States
CATEGORIES:2024 Track & Field Meet Results
ORGANIZER;CN="Donna Trost":MAILTO:trost@htc.net
END:VEVENT
BEGIN:VEVENT
DTSTART;TZID=America/Chicago:20240411T160000
DTEND;TZID=America/Chicago:20240411T193000
DTSTAMP:20260423T041207
CREATED:20240314T010829Z
LAST-MODIFIED:20240412T035021Z
UID:2484-1712851200-1712863800@aliasracemanagement.com
SUMMARY:Chester HS Open Meet April 11\, 2024
DESCRIPTION:Boys’ Individual Results and Team Scores\nGirls’ Individual Results and Team Scores
URL:https://aliasracemanagement.com/event/chester-hs-open-meet-april-11-2024/
LOCATION:Chester HS Track\, 74 Hoppe Dr\, Chester\, IL\, 62233\, United States
CATEGORIES:2024 Track & Field Meet Results
ORGANIZER;CN="Jennifer Cartwright":MAILTO:jennycartwright@chester139.com
END:VEVENT
BEGIN:VEVENT
DTSTART;TZID=America/Chicago:20240410T120000
DTEND;TZID=America/Chicago:20240410T163000
DTSTAMP:20260423T041207
CREATED:20240314T005501Z
LAST-MODIFIED:20240410T211356Z
UID:2480-1712750400-1712766600@aliasracemanagement.com
SUMMARY:OVC Conference Junior Meet April 10\, 2024
DESCRIPTION:Boys’ Individual Results Through the 400m\nGirls’ Individual Results Through the 400m
URL:https://aliasracemanagement.com/event/ovc-conference-junior-meet-april-10-2024/
LOCATION:Chester HS Track\, 74 Hoppe Dr\, Chester\, IL\, 62233\, United States
CATEGORIES:2024 Track & Field Meet Results
ORGANIZER;CN="Delana Whelan":MAILTO:dwhelan@stmarkspanther.com
END:VEVENT
BEGIN:VEVENT
DTSTART;TZID=America/Chicago:20240403T123000
DTEND;TZID=America/Chicago:20240403T170000
DTSTAMP:20260423T041207
CREATED:20240314T004657Z
LAST-MODIFIED:20240404T160625Z
UID:2477-1712147400-1712163600@aliasracemanagement.com
SUMMARY:OVC Conference Senior Meet April 3\,2024
DESCRIPTION:Boys’ Individual Results and Team Scores\nGirls’ Individual Results and Team Scores\n 
URL:https://aliasracemanagement.com/event/ovc-conference-senior-meet-april-32024/
LOCATION:Chester HS Track\, 74 Hoppe Dr\, Chester\, IL\, 62233\, United States
CATEGORIES:2024 Track & Field Meet Results
ORGANIZER;CN="Clint Cowan":MAILTO:Cowan3680@gmail.com
END:VEVENT
BEGIN:VEVENT
DTSTART;TZID=America/Chicago:20231125T170000
DTEND;TZID=America/Chicago:20231125T180000
DTSTAMP:20260423T041207
CREATED:20231106T023635Z
LAST-MODIFIED:20231129T132810Z
UID:2471-1700931600-1700935200@aliasracemanagement.com
SUMMARY:Sparta Healthy Holiday Hustle 2023
DESCRIPTION:Results\nAge Group  Male  Female\nOverall\nMale Overall\nFemale Overall
URL:https://aliasracemanagement.com/event/sparta-healthy-holiday-hustle-2023/
LOCATION:Sparta HHH\, 203 S Vine St\, Sparta\, IL\, 62286\, United States
CATEGORIES:2023 Road Race Results
ORGANIZER;CN="Jennifer Barbour":MAILTO:barbour.jennifer@spartahospital.com
END:VEVENT
BEGIN:VEVENT
DTSTART;TZID=America/Chicago:20231014T093000
DTEND;TZID=America/Chicago:20231014T113000
DTSTAMP:20260423T041207
CREATED:20230912T012135Z
LAST-MODIFIED:20231015T123656Z
UID:2409-1697275800-1697283000@aliasracemanagement.com
SUMMARY:Cahokia Conference Meet 2023
DESCRIPTION:Kaskaskia Division\nBoys’ Results – Varsity – Team Scores       Girls’ Results – Varsity – Team Scores\nIllinois Division\nBoys’ Results – Varsity – Team Scores    Girls’ Results – Varsity – Team Scores\nMississippi Division\nBoys’ Results – Varsity – Team Scores    Girls’ Results – Varsity – Team Scores\nOverall Boys’- Varsity Placing – Overall Girls’- Varsity Placing
URL:https://aliasracemanagement.com/event/cahokia-conference-meet-2023/
LOCATION:Randolph Co Lake\, N. Lake Dr.\, Chester\, IL\, 62233\, United States
CATEGORIES:2023 Cross Country Race Results
ORGANIZER;CN="Jennifer Cartwright":MAILTO:jennycartwright@chester139.com
END:VEVENT
BEGIN:VEVENT
DTSTART;TZID=America/Chicago:20231012T160000
DTEND;TZID=America/Chicago:20231012T183000
DTSTAMP:20260423T041207
CREATED:20230727T153636Z
LAST-MODIFIED:20231013T132543Z
UID:2343-1697126400-1697135400@aliasracemanagement.com
SUMMARY:BDC Conference Meet 2023
DESCRIPTION:Boys’ Results – Varsity Overall – Team Scores\nGirls’ Results – Varsity Overall – Team Scores
URL:https://aliasracemanagement.com/event/bdc-conference-meet-2023/
LOCATION:Ferne Clyffe State Park\, Ferne Clyffe State Park\, Goreville\, Illinois\, 62939
CATEGORIES:2023 Cross Country Race Results
ORGANIZER;CN="Todd Tripp":MAILTO:toddtripp@gorevilleschools.com
END:VEVENT
BEGIN:VEVENT
DTSTART;TZID=America/Chicago:20231005T163000
DTEND;TZID=America/Chicago:20231005T183000
DTSTAMP:20260423T041207
CREATED:20230727T153111Z
LAST-MODIFIED:20231006T013114Z
UID:2339-1696523400-1696530600@aliasracemanagement.com
SUMMARY:Trico Pioneer Invitational 2023
DESCRIPTION:Boys’ Results –Varsity Results – Team Scores\nGirls’ Results – Varsity Results – Team Scores
URL:https://aliasracemanagement.com/event/trico-pioneer-invitational-2023/
LOCATION:Pyramid Oaks\, 5501 State Rte 4\, Percy\, IL\, 62272\, United States
CATEGORIES:2023 Cross Country Race Results
ORGANIZER;CN="Blake Hampleman":MAILTO:blakehampleman@trico176.org
END:VEVENT
BEGIN:VEVENT
DTSTART;TZID=America/Chicago:20231004T160000
DTEND;TZID=America/Chicago:20231004T180000
DTSTAMP:20260423T041207
CREATED:20230727T152435Z
LAST-MODIFIED:20231005T120751Z
UID:2337-1696435200-1696442400@aliasracemanagement.com
SUMMARY:OVC Conference Meet 2023
DESCRIPTION:Boys’ Results – Overall – Team Scores\nGirls’ Results – Overall – Team Scores
URL:https://aliasracemanagement.com/event/ovc-conference-meet-2023/
LOCATION:Randolph Co Lake JH\, 4380 N. Lake Dr.\, Chester\, Illinois\, 62233
CATEGORIES:2023 Cross Country Race Results
ORGANIZER;CN="Justin Palm":MAILTO:jpalm@stjohnsredbud.org
END:VEVENT
BEGIN:VEVENT
DTSTART;TZID=America/Chicago:20230930T090000
DTEND;TZID=America/Chicago:20230930T113000
DTSTAMP:20260423T041207
CREATED:20230727T150133Z
LAST-MODIFIED:20230930T193503Z
UID:2335-1696064400-1696073400@aliasracemanagement.com
SUMMARY:Wesclin Invitational 2023
DESCRIPTION:Boys’ Results –Varsity Results – Team Scores\nGirls’ Results – Varsity Results – Team Scores
URL:https://aliasracemanagement.com/event/wesclin-invitational-2023/
LOCATION:Wesclin High School\, 699 Wesclin Rd.\, Trenton\, Illinois\, 62293
CATEGORIES:2023 Cross Country Race Results
ORGANIZER;CN="Tyler Weis":MAILTO:weist@wesclin.org
END:VEVENT
BEGIN:VEVENT
DTSTART;TZID=America/Chicago:20230928T163000
DTEND;TZID=America/Chicago:20230928T190000
DTSTAMP:20260423T041207
CREATED:20230727T145806Z
LAST-MODIFIED:20230929T124415Z
UID:2333-1695918600-1695927600@aliasracemanagement.com
SUMMARY:Chester Invitational 2023
DESCRIPTION:Boys’ Results – Overall – Varsity – Fresh/Soph – Team Scores\nGirls’ Results – Overall – Varsity – Fresh/Soph – Team Scores\nCombined Team Scores
URL:https://aliasracemanagement.com/event/chester-invitational-2023/
LOCATION:Randolph Co Lake\, N. Lake Dr.\, Chester\, IL\, 62233\, United States
CATEGORIES:2023 Cross Country Race Results
ORGANIZER;CN="Jennifer Cartwright":MAILTO:jennycartwright@chester139.com
END:VEVENT
BEGIN:VEVENT
DTSTART;TZID=America/Chicago:20230923T083000
DTEND;TZID=America/Chicago:20230923T233000
DTSTAMP:20260423T041207
CREATED:20230727T145510Z
LAST-MODIFIED:20230924T011316Z
UID:2331-1695457800-1695511800@aliasracemanagement.com
SUMMARY:Freeburg Invitational 2023
DESCRIPTION:Boys’ Results – Varsity Overall – Team Scores\nJV Overall – JV Team Scores\nGirls’ Results – Varsity Overall – Team Scores\nJV Overall – JV Team Scores
URL:https://aliasracemanagement.com/event/freeburg-invitational-2023/
LOCATION:Smithton Village Park\, Park Rd\, Smithton\, IL\, 62285\, United States
CATEGORIES:2023 Cross Country Race Results
ORGANIZER;CN="Carl Florczyk":MAILTO:florczcd@fchs77.org
END:VEVENT
BEGIN:VEVENT
DTSTART;TZID=America/Chicago:20230919T160000
DTEND;TZID=America/Chicago:20230919T180000
DTSTAMP:20260423T041207
CREATED:20230727T145010Z
LAST-MODIFIED:20230920T145422Z
UID:2329-1695139200-1695146400@aliasracemanagement.com
SUMMARY:Goreville Invitational 2023
DESCRIPTION:Boys’ Results – Varsity Overall – Team Scores\nGirls’ Results – Varsity Overall – Team Scores
URL:https://aliasracemanagement.com/event/goreville-invitational-2023/
LOCATION:Ferne Clyffe State Park\, Ferne Clyffe State Park\, Goreville\, Illinois\, 62939
CATEGORIES:2023 Cross Country Race Results
ORGANIZER;CN="Todd Tripp":MAILTO:toddtripp@gorevilleschools.com
END:VEVENT
BEGIN:VEVENT
DTSTART;TZID=America/Chicago:20230918T163000
DTEND;TZID=America/Chicago:20230918T183000
DTSTAMP:20260423T041207
CREATED:20230727T144147Z
LAST-MODIFIED:20230919T122944Z
UID:2324-1695054600-1695061800@aliasracemanagement.com
SUMMARY:Nashville Invitational 2023
DESCRIPTION:Boys’ Results – Varsity Overall – Team Scores – Open Overall\nGirls’ Results – Varsity Overall – Team Scores – Open Overall
URL:https://aliasracemanagement.com/event/nashville-invitational-2023/
LOCATION:Washington County Lake\, 18750 Conservation Dr\,\, Nashville\, IL\, 62263\, United States
CATEGORIES:2023 Cross Country Race Results
ORGANIZER;CN="Jennifer Olson":MAILTO:jolson@nashville-k12.org
END:VEVENT
BEGIN:VEVENT
DTSTART;TZID=America/Chicago:20230912T150000
DTEND;TZID=America/Chicago:20230912T183000
DTSTAMP:20260423T041207
CREATED:20230715T214434Z
LAST-MODIFIED:20230913T131542Z
UID:2319-1694530800-1694543400@aliasracemanagement.com
SUMMARY:Sparta JH/HS Invite 2023
DESCRIPTION:Junior High Results\nBoys’ Results – Varsity Overall – Team Scores\nGirls’ Results – Varsity Overall – Team Scores\nHigh School Results\nBoys’ Results – Varsity Overall – Team Scores\nGirls’ Results – Varsity Overall – Team Scores
URL:https://aliasracemanagement.com/event/sparta-jh-hs-invite-2023/
LOCATION:World Shooting Complex\, 1Main Event Ln #510\, Sparta\, IL\, 62286\, United States
CATEGORIES:2023 Cross Country Race Results
ORGANIZER;CN="Andrea Pillers":MAILTO:apillers@sparta.k12.il.us
END:VEVENT
END:VCALENDAR