BEGIN:VCALENDAR
VERSION:2.0
PRODID:-//Alias Race Management - ECPv6.15.20//NONSGML v1.0//EN
CALSCALE:GREGORIAN
METHOD:PUBLISH
X-WR-CALNAME:Alias Race Management
X-ORIGINAL-URL:https://aliasracemanagement.com
X-WR-CALDESC:Events for Alias Race Management
REFRESH-INTERVAL;VALUE=DURATION:PT1H
X-Robots-Tag:noindex
X-PUBLISHED-TTL:PT1H
BEGIN:VTIMEZONE
TZID:America/Chicago
BEGIN:DAYLIGHT
TZOFFSETFROM:-0600
TZOFFSETTO:-0500
TZNAME:CDT
DTSTART:20230312T080000
END:DAYLIGHT
BEGIN:STANDARD
TZOFFSETFROM:-0500
TZOFFSETTO:-0600
TZNAME:CST
DTSTART:20231105T070000
END:STANDARD
BEGIN:DAYLIGHT
TZOFFSETFROM:-0600
TZOFFSETTO:-0500
TZNAME:CDT
DTSTART:20240310T080000
END:DAYLIGHT
BEGIN:STANDARD
TZOFFSETFROM:-0500
TZOFFSETTO:-0600
TZNAME:CST
DTSTART:20241103T070000
END:STANDARD
BEGIN:DAYLIGHT
TZOFFSETFROM:-0600
TZOFFSETTO:-0500
TZNAME:CDT
DTSTART:20250309T080000
END:DAYLIGHT
BEGIN:STANDARD
TZOFFSETFROM:-0500
TZOFFSETTO:-0600
TZNAME:CST
DTSTART:20251102T070000
END:STANDARD
BEGIN:DAYLIGHT
TZOFFSETFROM:-0600
TZOFFSETTO:-0500
TZNAME:CDT
DTSTART:20260308T080000
END:DAYLIGHT
BEGIN:STANDARD
TZOFFSETFROM:-0500
TZOFFSETTO:-0600
TZNAME:CST
DTSTART:20261101T070000
END:STANDARD
BEGIN:DAYLIGHT
TZOFFSETFROM:-0600
TZOFFSETTO:-0500
TZNAME:CDT
DTSTART:20270314T080000
END:DAYLIGHT
BEGIN:STANDARD
TZOFFSETFROM:-0500
TZOFFSETTO:-0600
TZNAME:CST
DTSTART:20271107T070000
END:STANDARD
END:VTIMEZONE
BEGIN:VEVENT
DTSTART;TZID=America/Chicago:20260415T120000
DTEND;TZID=America/Chicago:20260415T160000
DTSTAMP:20260423T050418
CREATED:20260313T010507Z
LAST-MODIFIED:20260415T205426Z
UID:2989-1776254400-1776268800@aliasracemanagement.com
SUMMARY:OVC Conference Junior Meet April 15\, 2026
DESCRIPTION:Boys’ Individual Results and Team Scores\nGirls’ Individual Results and Team Scores
URL:https://aliasracemanagement.com/event/ovc-conference-junior-meet-april-15-2026/
LOCATION:Red Bud High School Track\, 601 Westfield Court\, Red Bud\, IL\, 62278\, United States
CATEGORIES:2026 Track & Field Meet Results
ORGANIZER;CN="Sara Maynard":MAILTO:maynard@cvillecusd1.org
END:VEVENT
BEGIN:VEVENT
DTSTART;TZID=America/Chicago:20260408T120000
DTEND;TZID=America/Chicago:20260408T160000
DTSTAMP:20260423T050418
CREATED:20260313T010216Z
LAST-MODIFIED:20260409T001628Z
UID:2986-1775649600-1775664000@aliasracemanagement.com
SUMMARY:OVC Conference Senior Meet April 8\, 2026
DESCRIPTION:Boys’ Individual Results and Team Scores\nGirls’ Individual Results and Team Scores
URL:https://aliasracemanagement.com/event/ovc-conference-senior-meet-april-8-2029/
LOCATION:Red Bud High School Track\, 601 Westfield Court\, Red Bud\, IL\, 62278\, United States
CATEGORIES:2026 Track & Field Meet Results
ORGANIZER;CN="Sara Maynard":MAILTO:maynard@cvillecusd1.org
END:VEVENT
BEGIN:VEVENT
DTSTART;TZID=America/Chicago:20251129T170000
DTEND;TZID=America/Chicago:20251129T180000
DTSTAMP:20260423T050418
CREATED:20251103T230223Z
LAST-MODIFIED:20251130T230332Z
UID:2980-1764435600-1764439200@aliasracemanagement.com
SUMMARY:Sparta Healthy Holiday Hustle 2025
DESCRIPTION:Results\nAge Group  Male  Female\nOverall\nMale Overall\nFemale Overall
URL:https://aliasracemanagement.com/event/sparta-healthy-holiday-hustle-2025/
LOCATION:Sparta HHH\, 203 S Vine St\, Sparta\, IL\, 62286\, United States
CATEGORIES:2025 Road Race Results
ORGANIZER;CN="Jennifer Barbour":MAILTO:barbour.jennifer@spartahospital.com
END:VEVENT
BEGIN:VEVENT
DTSTART;TZID=America/Chicago:20251025T090000
DTEND;TZID=America/Chicago:20251025T113000
DTSTAMP:20260423T050418
CREATED:20250908T160508Z
LAST-MODIFIED:20251027T130500Z
UID:2892-1761382800-1761391800@aliasracemanagement.com
SUMMARY:IHSA Class 1A Regional (Murphysboro)
DESCRIPTION:Boys’ Results – Varsity Overall – Team Scores\nGirls’ Results – Varsity Overall – Team Scores
URL:https://aliasracemanagement.com/event/ihsa-class-1a-regional-murphysboro-2/
LOCATION:Murphysboro High School\, 50 Blackwood Dr.\, Murphysboro\, IL\, 62966\, United States
CATEGORIES:2025 Cross Country Race Results
ORGANIZER;CN="Cody Ellermeyer":MAILTO:cellermeyer@mhs.org
END:VEVENT
BEGIN:VEVENT
DTSTART;TZID=America/Chicago:20251016T160000
DTEND;TZID=America/Chicago:20251016T180000
DTSTAMP:20260423T050418
CREATED:20250806T195652Z
LAST-MODIFIED:20251017T142212Z
UID:2829-1760630400-1760637600@aliasracemanagement.com
SUMMARY:SIRR Conference Meet 2025
DESCRIPTION:Ohio Division Results\nVarsity Boys’ – Team Scores           Varsity Girls’ – Team Scores\nMississippi Division Results\nVarsity Boys’ – Team Scores           Varsity Girls’ – Team Scores\nOverall Varsity Boys’     Overall Varsity Girls’\nJV Boys’ Results          JV Girls’ Results
URL:https://aliasracemanagement.com/event/sirr-conference-meet-2025/
LOCATION:Murphysboro High School\, 50 Blackwood Dr.\, Murphysboro\, IL\, 62966\, United States
CATEGORIES:2025 Cross Country Race Results
ORGANIZER;CN="Cody Ellermeyer":MAILTO:cellermeyer@mhs.org
END:VEVENT
BEGIN:VEVENT
DTSTART;TZID=America/Chicago:20251011T090000
DTEND;TZID=America/Chicago:20251011T100000
DTSTAMP:20260423T050418
CREATED:20250316T225847Z
LAST-MODIFIED:20251013T020023Z
UID:2739-1760173200-1760176800@aliasracemanagement.com
SUMMARY:Elverado Education Foundation 5K
DESCRIPTION:Results\nOverall: Female Run  Female Walk\nMale Run  Male Walk\nAge Group: Female Run  Female Walk\nMale Run  Male Walk
URL:https://aliasracemanagement.com/event/elverado-education-foundation-5k/
LOCATION:Elverado High School\, 514 South 6th Street\, Elverado\, IL\, 62932\, United States
CATEGORIES:2025 Road Race Results
ORGANIZER;CN="Marla Rathjen":MAILTO:krmrir@egyptian.net
END:VEVENT
BEGIN:VEVENT
DTSTART;TZID=America/Chicago:20251009T163000
DTEND;TZID=America/Chicago:20251009T183000
DTSTAMP:20260423T050418
CREATED:20250806T205820Z
LAST-MODIFIED:20251010T125501Z
UID:2833-1760027400-1760034600@aliasracemanagement.com
SUMMARY:Murphysboro SIJHSAA Regional 2025
DESCRIPTION:Boys’ Results – Varsity Overall – Team Scores\nGirls’ Results – Varsity Overall – Team Scores
URL:https://aliasracemanagement.com/event/murphysboro-sijhsaa-regional-2025/
LOCATION:Murphysboro High School\, 50 Blackwood Dr.\, Murphysboro\, IL\, 62966\, United States
CATEGORIES:2025 Cross Country Race Results
ORGANIZER;CN="Cody Ellermeyer":MAILTO:cellermeyer@mhs.org
END:VEVENT
BEGIN:VEVENT
DTSTART;TZID=America/Chicago:20251008T160000
DTEND;TZID=America/Chicago:20251008T180000
DTSTAMP:20260423T050418
CREATED:20250812T201738Z
LAST-MODIFIED:20251009T123421Z
UID:2841-1759939200-1759946400@aliasracemanagement.com
SUMMARY:Wesclin SIJHSAA Regional 2025
DESCRIPTION:Boys’ Results – Varsity Overall – Team Scores\nGirls’ Results – Varsity Overall – Team Scores
URL:https://aliasracemanagement.com/event/wesclin-sijhsaa-regional-2025/
LOCATION:Wesclin High School\, 699 Wesclin Rd.\, Trenton\, Illinois\, 62293
CATEGORIES:2025 Cross Country Race Results
ORGANIZER;CN="Daryl Brokering":MAILTO:brokerid@wesclin.org
END:VEVENT
BEGIN:VEVENT
DTSTART;TZID=America/Chicago:20251004T090000
DTEND;TZID=America/Chicago:20251004T113000
DTSTAMP:20260423T050418
CREATED:20250724T020133Z
LAST-MODIFIED:20251005T123043Z
UID:2823-1759568400-1759577400@aliasracemanagement.com
SUMMARY:Wesclin Invitational 2025
DESCRIPTION:Boys’ Results – Varsity Overall – Team Scores\nGirls’ Results – Varsity Overall – Team Scores
URL:https://aliasracemanagement.com/event/wesclin-invitational-2025/
LOCATION:Wesclin High School\, 699 Wesclin Rd.\, Trenton\, Illinois\, 62293
CATEGORIES:2025 Cross Country Race Results
ORGANIZER;CN="Tyler Weis":MAILTO:weist@wesclin.org
END:VEVENT
BEGIN:VEVENT
DTSTART;TZID=America/Chicago:20251001T150000
DTEND;TZID=America/Chicago:20251001T170000
DTSTAMP:20260423T050418
CREATED:20250724T015619Z
LAST-MODIFIED:20251002T124057Z
UID:2819-1759330800-1759338000@aliasracemanagement.com
SUMMARY:OVC Conference Meet 2025
DESCRIPTION:Boys’ Results – Varsity Overall – Team Scores\nGirls’ Results – Varsity Overall – Team Scores\n 
URL:https://aliasracemanagement.com/event/ovc-conference-meet-2025/
LOCATION:Randolph Co Lake JH\, 4380 N. Lake Dr.\, Chester\, Illinois\, 62233
CATEGORIES:2025 Cross Country Race Results
ORGANIZER;CN="Justin Palm":MAILTO:jpalm@stjohnsredbud.org
END:VEVENT
BEGIN:VEVENT
DTSTART;TZID=America/Chicago:20250927T083000
DTEND;TZID=America/Chicago:20250927T120000
DTSTAMP:20260423T050418
CREATED:20250705T005618Z
LAST-MODIFIED:20250930T130157Z
UID:2798-1758961800-1758974400@aliasracemanagement.com
SUMMARY:Freeburg Invitational 2025
DESCRIPTION:Boys’ Results – Varsity Overall – Team Scores – JV Overall  –  Team Scores\nGirls’ Results – Varsity Overall – Team Scores – JV Overall  –  Team Scores\n 
URL:https://aliasracemanagement.com/event/freeburg-invitational-2025/
LOCATION:Smithton Village Park\, Park Rd\, Smithton\, IL\, 62285\, United States
CATEGORIES:2025 Cross Country Race Results
ORGANIZER;CN="Carl Florczyk":MAILTO:florczcd@fchs77.org
END:VEVENT
BEGIN:VEVENT
DTSTART;TZID=America/Chicago:20250923T160000
DTEND;TZID=America/Chicago:20250923T183000
DTSTAMP:20260423T050418
CREATED:20250705T003938Z
LAST-MODIFIED:20251027T130937Z
UID:2788-1758643200-1758652200@aliasracemanagement.com
SUMMARY:Goreville  Invitational 2025 (Cancelled)
DESCRIPTION:Meet cancelled due to severe weather.
URL:https://aliasracemanagement.com/event/goreville-blackcat-den-invitational-2025/
LOCATION:Ferne Clyffe State Park\, Ferne Clyffe State Park\, Goreville\, Illinois\, 62939
CATEGORIES:2025 Cross Country Race Results
ORGANIZER;CN="Todd Tripp":MAILTO:toddtripp@gorevilleschools.com
END:VEVENT
BEGIN:VEVENT
DTSTART;TZID=America/Chicago:20250922T163000
DTEND;TZID=America/Chicago:20250922T190000
DTSTAMP:20260423T050418
CREATED:20250705T003646Z
LAST-MODIFIED:20250923T160221Z
UID:2786-1758558600-1758567600@aliasracemanagement.com
SUMMARY:Nashville Invitational 2025
DESCRIPTION:Boys’ Results – Varsity Overall – Team Scores – Open Overall\nGirls’ Results – Varsity Overall – Team Scores – Open Overall
URL:https://aliasracemanagement.com/event/nashville-invitational-2025/
LOCATION:Washington County Lake\, 18750 Conservation Dr\,\, Nashville\, IL\, 62263\, United States
CATEGORIES:2025 Cross Country Race Results
ORGANIZER;CN="Jennifer Olson":MAILTO:jolson@nashville-k12.org
END:VEVENT
BEGIN:VEVENT
DTSTART;TZID=America/Chicago:20250918T160000
DTEND;TZID=America/Chicago:20250918T180000
DTSTAMP:20260423T050418
CREATED:20250705T005244Z
LAST-MODIFIED:20250919T125819Z
UID:2796-1758211200-1758218400@aliasracemanagement.com
SUMMARY:Marissa JH Comet Invite 2025
DESCRIPTION:Boys’ Results – Varsity Overall – Team Scores – Open Race\nGirls’ Results – Varsity Overall – Team Scores – Open Race
URL:https://aliasracemanagement.com/event/marissa-jh-comet-invite-2025/
LOCATION:Marissa Recreation Lake\, 410 State Rt. 4\, Marissa\, IL\, 62257
CATEGORIES:2025 Cross Country Race Results
ORGANIZER;CN="Steve Kidd":MAILTO:mcusdad@marissa40.org
END:VEVENT
BEGIN:VEVENT
DTSTART;TZID=America/Chicago:20250916T160000
DTEND;TZID=America/Chicago:20250916T180000
DTSTAMP:20260423T050418
CREATED:20250705T002937Z
LAST-MODIFIED:20250917T010322Z
UID:2779-1758038400-1758045600@aliasracemanagement.com
SUMMARY:Sparta High School Invite 2025
DESCRIPTION:Boys’ Results – Varsity Overall – Team Scores\nGirls’ Results – Varsity Overall – Team Scores
URL:https://aliasracemanagement.com/event/sparta-high-school-invite-2025/
LOCATION:Randolph County Fair Grounds\, 501 W Belmont St\, Sparta\, 62286\, United States
CATEGORIES:2025 Cross Country Race Results
ORGANIZER;CN="Jordan Beckley":MAILTO:jbeckley@sparta140.org
END:VEVENT
BEGIN:VEVENT
DTSTART;TZID=America/Chicago:20250910T160000
DTEND;TZID=America/Chicago:20250910T180000
DTSTAMP:20260423T050418
CREATED:20250705T001231Z
LAST-MODIFIED:20250911T125359Z
UID:2775-1757520000-1757527200@aliasracemanagement.com
SUMMARY:Sparta JH Invitational 2025
DESCRIPTION:Boys’ Results – Varsity Overall – Team Scores  – Open Race\nGirls’ Results – Varsity Overall – Team Scores – Open Race
URL:https://aliasracemanagement.com/event/sparta-jh-invitational-2025/
LOCATION:Randolph County Fair Grounds\, 501 W Belmont St\, Sparta\, 62286\, United States
CATEGORIES:2025 Cross Country Race Results
ORGANIZER;CN="Jonathan Norton":MAILTO:jnorton@sparta.k12.il.us
END:VEVENT
BEGIN:VEVENT
DTSTART;TZID=America/Chicago:20250909T170000
DTEND;TZID=America/Chicago:20250909T190000
DTSTAMP:20260423T050418
CREATED:20250703T021129Z
LAST-MODIFIED:20250910T160138Z
UID:2772-1757437200-1757444400@aliasracemanagement.com
SUMMARY:Meteor Invite 2025
DESCRIPTION:Boys’ Results – Varsity Overall – Team Scores\nGirls’ Results – Varsity Overall – Team Scores
URL:https://aliasracemanagement.com/event/meteor-invite-2025/
LOCATION:Marissa Recreation Lake\, 410 State Rt. 4\, Marissa\, IL\, 62257
CATEGORIES:2025 Cross Country Race Results
ORGANIZER;CN="Steve Kidd":MAILTO:mcusdad@marissa40.org
END:VEVENT
BEGIN:VEVENT
DTSTART;TZID=America/Chicago:20250908T163000
DTEND;TZID=America/Chicago:20250908T180000
DTSTAMP:20260423T050418
CREATED:20250724T013745Z
LAST-MODIFIED:20250909T145520Z
UID:2806-1757349000-1757354400@aliasracemanagement.com
SUMMARY:Herrin Invitational 2025
DESCRIPTION:Boys’ Results – Varsity Overall – Team Scores\nGirls’ Results – Varsity Overall – Team Scores
URL:https://aliasracemanagement.com/event/herrin-invitational-2025/
LOCATION:Pine Lakes Golf Coourse\, 2705 S Park Ave\, Herrin\, IL\, 62948\, United States
CATEGORIES:2025 Cross Country Race Results
ORGANIZER;CN="James Elliot":MAILTO:james.elliott@herrinschools.org
END:VEVENT
BEGIN:VEVENT
DTSTART;TZID=America/Chicago:20250908T080000
DTEND;TZID=America/Chicago:20250908T170000
DTSTAMP:20260423T050418
CREATED:20250908T155810Z
LAST-MODIFIED:20250908T155810Z
UID:2890-1757318400-1757350800@aliasracemanagement.com
SUMMARY:2025 IHSA Regional at Murphysboro
DESCRIPTION:
URL:https://aliasracemanagement.com/event/2025-ihsa-regional-at-murphysboro/
LOCATION:IL
CATEGORIES:Cross Country
END:VEVENT
BEGIN:VEVENT
DTSTART;TZID=America/Chicago:20250903T163000
DTEND;TZID=America/Chicago:20250903T183000
DTSTAMP:20260423T050418
CREATED:20250703T015609Z
LAST-MODIFIED:20250906T153813Z
UID:2768-1756917000-1756924200@aliasracemanagement.com
SUMMARY:Murphysboro Invitational 2025
DESCRIPTION:Boys’ Results – Varsity Overall – Team Scores\nGirls’ Results – Varsity Overall – Team Scores
URL:https://aliasracemanagement.com/event/murphysboro-invitational-2025/
LOCATION:Murphysboro High School\, 50 Blackwood Dr.\, Murphysboro\, IL\, 62966\, United States
CATEGORIES:2025 Cross Country Race Results
ORGANIZER;CN="Cody Ellermeyer":MAILTO:cellermeyer@mhs.org
END:VEVENT
BEGIN:VEVENT
DTSTART;TZID=America/Chicago:20250825T180000
DTEND;TZID=America/Chicago:20250825T193000
DTSTAMP:20260423T050418
CREATED:20250628T015916Z
LAST-MODIFIED:20250826T133614Z
UID:2766-1756144800-1756150200@aliasracemanagement.com
SUMMARY:New Athens Invitational 2025
DESCRIPTION:Boys’ Results – Varsity Overall – Team Scores\nGirls’ Results – Varsity Overall – Team Scores
URL:https://aliasracemanagement.com/event/new-athens-invitational-2025/
LOCATION:Okaw Valley Park\, 101 St. Clair St.\,\, New Athens\, IL\, 62264
CATEGORIES:2025 Cross Country Race Results
ORGANIZER;CN="Tony Meyer":MAILTO:tmeyer@na60.org
END:VEVENT
BEGIN:VEVENT
DTSTART;TZID=America/Chicago:20250416T123000
DTEND;TZID=America/Chicago:20250416T160000
DTSTAMP:20260423T050418
CREATED:20250304T233046Z
LAST-MODIFIED:20250416T210232Z
UID:2733-1744806600-1744819200@aliasracemanagement.com
SUMMARY:OVC Conference Junior Meet April 16\, 2025
DESCRIPTION:Boys’ Individual Results and Team Scores\nGirls’ Individual Results and Team Scores\n 
URL:https://aliasracemanagement.com/event/ovc-conference-junior-meet-april-16-2025/
LOCATION:Red Bud High School Track\, 601 Westfield Court\, Red Bud\, IL\, 62278\, United States
CATEGORIES:2025 Track & Field Meet Results
ORGANIZER;CN="Julie Fehr":MAILTO:jfehr@redbud132.org
END:VEVENT
BEGIN:VEVENT
DTSTART;TZID=America/Chicago:20250412T100000
DTEND;TZID=America/Chicago:20250412T160000
DTSTAMP:20260423T050418
CREATED:20250304T233418Z
LAST-MODIFIED:20250412T194258Z
UID:2735-1744452000-1744473600@aliasracemanagement.com
SUMMARY:RBC Invitational Meet April 12\, 2025
DESCRIPTION:Boys’ Individual Results and Team Scores\nGirls’ Individual Results and Team Scores\n 
URL:https://aliasracemanagement.com/event/rbc-invitational-meet-april-12-2025/
LOCATION:Red Bud High School Track\, 601 Westfield Court\, Red Bud\, IL\, 62278\, United States
CATEGORIES:2025 Track & Field Meet Results
ORGANIZER;CN="Donna Trost":MAILTO:trost@htc.net
END:VEVENT
BEGIN:VEVENT
DTSTART;TZID=America/Chicago:20250409T123000
DTEND;TZID=America/Chicago:20250409T160000
DTSTAMP:20260423T050418
CREATED:20250304T232145Z
LAST-MODIFIED:20250410T012128Z
UID:2730-1744201800-1744214400@aliasracemanagement.com
SUMMARY:OVC Conference Senior Meet April 9\, 2025
DESCRIPTION:Boys’ Individual Results and Team Scores\nGirls’ Individual Results and Team Scores
URL:https://aliasracemanagement.com/event/ovc-conference-senior-meet-april-9-2025/
LOCATION:Red Bud High School Track\, 601 Westfield Court\, Red Bud\, IL\, 62278\, United States
CATEGORIES:2025 Track & Field Meet Results
ORGANIZER;CN="Julie Fehr":MAILTO:jfehr@redbud132.org
END:VEVENT
BEGIN:VEVENT
DTSTART;TZID=America/Chicago:20241130T170000
DTEND;TZID=America/Chicago:20241130T183000
DTSTAMP:20260423T050418
CREATED:20241114T201602Z
LAST-MODIFIED:20241201T032937Z
UID:2723-1732986000-1732991400@aliasracemanagement.com
SUMMARY:Sparta Healthy Holiday Hustle 2024
DESCRIPTION:Results\nAge Group  Male  Female\nOverall\nMale Overall\nFemale Overall
URL:https://aliasracemanagement.com/event/sparta-healthy-holiday-hustle-2024/
LOCATION:Sparta HHH\, 203 S Vine St\, Sparta\, IL\, 62286\, United States
CATEGORIES:2024 Road Race Results
ORGANIZER;CN="Jennifer Barbour":MAILTO:barbour.jennifer@spartahospital.com
END:VEVENT
BEGIN:VEVENT
DTSTART;TZID=America/Chicago:20241026T090000
DTEND;TZID=America/Chicago:20241026T113000
DTSTAMP:20260423T050418
CREATED:20240722T013241Z
LAST-MODIFIED:20241026T213735Z
UID:2561-1729933200-1729942200@aliasracemanagement.com
SUMMARY:IHSA Class 1A Regional (Murphysboro)
DESCRIPTION:Boys’ –Varsity Results – Team Scores\nGirls’ – Varsity Results – Team Scores
URL:https://aliasracemanagement.com/event/ihsa-class-1a-regional-murphysboro/
LOCATION:Murphysboro High School\, 50 Blackwood Dr.\, Murphysboro\, IL\, 62966\, United States
CATEGORIES:2024 Cross Country Race Results
ORGANIZER;CN="Cody Ellermeyer":MAILTO:cellermeyer@mhs.org
END:VEVENT
BEGIN:VEVENT
DTSTART;TZID=America/Chicago:20241019T093000
DTEND;TZID=America/Chicago:20241019T120000
DTSTAMP:20260423T050418
CREATED:20240916T222942Z
LAST-MODIFIED:20241020T012311Z
UID:2633-1729330200-1729339200@aliasracemanagement.com
SUMMARY:Cahokia Conference Meet 2024
DESCRIPTION:Kaskaskia Division\nBoys’ Results – Varsity        Girls’ Results – Varsity \nIllinois Division\nBoys’ Results – Varsity     Girls’ Results – Varsity\nIllinois/Kaskaskia Team Scores  –  Boys’    Girls’\nMississippi Division\nBoys’ Results – Varsity – Team Scores    Girls’ Results – Varsity – Team Scores\nOverall Boys’ Varsity Placing – Overall Girls’ Varsity Placing
URL:https://aliasracemanagement.com/event/cahokia-conference-meet-2024/
LOCATION:Wesclin High School\, 699 Wesclin Rd.\, Trenton\, Illinois\, 62293
CATEGORIES:2024 Cross Country Race Results
ORGANIZER;CN="Tyler Weis":MAILTO:weist@wesclin.org
END:VEVENT
BEGIN:VEVENT
DTSTART;TZID=America/Chicago:20241017T153000
DTEND;TZID=America/Chicago:20241017T180000
DTSTAMP:20260423T050418
CREATED:20240722T012124Z
LAST-MODIFIED:20241018T135326Z
UID:2557-1729179000-1729188000@aliasracemanagement.com
SUMMARY:SIRR Conference Meet 2024
DESCRIPTION:Ohio Division Results\nVarsity Boys’ – Team Scores           Varsity Girls’ – Team Scores\nMississippi Division Results\nVarsity Boys’ – Team Scores           Varsity Girls’ – Team Scores\nJV Boys’ Results – JV Girls’ Results
URL:https://aliasracemanagement.com/event/sirr-conference-meet-2024/
LOCATION:DuQuoin\, 37.99565149089885\, -89.22884280197285
CATEGORIES:2024 Cross Country Race Results
ORGANIZER;CN="Matt Laur":MAILTO:mlaur@pchspanthers.com
END:VEVENT
BEGIN:VEVENT
DTSTART;TZID=America/Chicago:20241008T160000
DTEND;TZID=America/Chicago:20241008T180000
DTSTAMP:20260423T050418
CREATED:20240914T145122Z
LAST-MODIFIED:20241009T135534Z
UID:2621-1728403200-1728410400@aliasracemanagement.com
SUMMARY:Wesclin SIJHSAA Regional 2024
DESCRIPTION:Boys’ Results –Varsity Results – Team Scores\nGirls’ Results – Varsity Results – Team Scores
URL:https://aliasracemanagement.com/event/wesclin-sijhsaa-regional-2024/
LOCATION:Wesclin High School\, 699 Wesclin Rd.\, Trenton\, Illinois\, 62293
CATEGORIES:2024 Cross Country Race Results
ORGANIZER;CN="Daryl Brokering":MAILTO:brokerid@wesclin.org
END:VEVENT
BEGIN:VEVENT
DTSTART;TZID=America/Chicago:20241005T090000
DTEND;TZID=America/Chicago:20241005T110000
DTSTAMP:20260423T050418
CREATED:20240722T011129Z
LAST-MODIFIED:20241005T203825Z
UID:2555-1728118800-1728126000@aliasracemanagement.com
SUMMARY:Wesclin Invitational 2024
DESCRIPTION:Boys’ Results –Varsity Results – Team Scores\nGirls’ Results – Varsity Results – Team Scores\n 
URL:https://aliasracemanagement.com/event/wesclin-invitational-2024/
LOCATION:Wesclin High School\, 699 Wesclin Rd.\, Trenton\, Illinois\, 62293
CATEGORIES:2024 Cross Country Race Results
ORGANIZER;CN="Tyler Weis":MAILTO:weist@wesclin.org
END:VEVENT
END:VCALENDAR