BEGIN:VCALENDAR
VERSION:2.0
PRODID:-//Alias Race Management - ECPv6.15.20//NONSGML v1.0//EN
CALSCALE:GREGORIAN
METHOD:PUBLISH
X-WR-CALNAME:Alias Race Management
X-ORIGINAL-URL:https://aliasracemanagement.com
X-WR-CALDESC:Events for Alias Race Management
REFRESH-INTERVAL;VALUE=DURATION:PT1H
X-Robots-Tag:noindex
X-PUBLISHED-TTL:PT1H
BEGIN:VTIMEZONE
TZID:UTC
BEGIN:STANDARD
TZOFFSETFROM:+0000
TZOFFSETTO:+0000
TZNAME:UTC
DTSTART:20210101T000000
END:STANDARD
END:VTIMEZONE
BEGIN:VTIMEZONE
TZID:America/Chicago
BEGIN:DAYLIGHT
TZOFFSETFROM:-0600
TZOFFSETTO:-0500
TZNAME:CDT
DTSTART:20210314T080000
END:DAYLIGHT
BEGIN:STANDARD
TZOFFSETFROM:-0500
TZOFFSETTO:-0600
TZNAME:CST
DTSTART:20211107T070000
END:STANDARD
BEGIN:DAYLIGHT
TZOFFSETFROM:-0600
TZOFFSETTO:-0500
TZNAME:CDT
DTSTART:20220313T080000
END:DAYLIGHT
BEGIN:STANDARD
TZOFFSETFROM:-0500
TZOFFSETTO:-0600
TZNAME:CST
DTSTART:20221106T070000
END:STANDARD
BEGIN:DAYLIGHT
TZOFFSETFROM:-0600
TZOFFSETTO:-0500
TZNAME:CDT
DTSTART:20230312T080000
END:DAYLIGHT
BEGIN:STANDARD
TZOFFSETFROM:-0500
TZOFFSETTO:-0600
TZNAME:CST
DTSTART:20231105T070000
END:STANDARD
END:VTIMEZONE
BEGIN:VEVENT
DTSTART;TZID=UTC:20220518T150000
DTEND;TZID=UTC:20220518T190000
DTSTAMP:20260423T070043
CREATED:20220413T013950Z
LAST-MODIFIED:20220722T212818Z
UID:1895-1652886000-1652900400@aliasracemanagement.com
SUMMARY:IHSA Class 1A Boys' Sectional at Chester
DESCRIPTION:Boys complete individual results and team scores
URL:https://aliasracemanagement.com/event/ihsa-boys-sectional/
LOCATION:Chester HS Track\, 74 Hoppe Dr\, Chester\, IL\, 62233\, United States
CATEGORIES:2022Track & Field Meet Results
ORGANIZER;CN="Bryce Bainter":MAILTO:brycebainter@chester139.com
END:VEVENT
BEGIN:VEVENT
DTSTART;TZID=UTC:20220514T100000
DTEND;TZID=UTC:20220514T163000
DTSTAMP:20260423T070043
CREATED:20220413T015352Z
LAST-MODIFIED:20220514T210422Z
UID:1901-1652522400-1652545800@aliasracemanagement.com
SUMMARY:SIJHSAA Class L State Meet at Carterville
DESCRIPTION:Boys’ Individual Results and Team Scores\nGirls’ Individual Results and Team Scores
URL:https://aliasracemanagement.com/event/sijhsaa-class-l-state-meet-at-carterville/
LOCATION:Carterville HS Track\, 1415 W Grand Ave\, Carterville\, IL\, 62918\, United States
CATEGORIES:2022Track & Field Meet Results
ORGANIZER;CN="Brett Diel":MAILTO:bdiel@cartervilleschools.org
END:VEVENT
BEGIN:VEVENT
DTSTART;TZID=UTC:20220430T100000
DTEND;TZID=UTC:20220430T163000
DTSTAMP:20260423T070043
CREATED:20220413T014356Z
LAST-MODIFIED:20220430T220610Z
UID:1897-1651312800-1651336200@aliasracemanagement.com
SUMMARY:SIJHSAA Class S Regional at Chester
DESCRIPTION:Boys’ Individual Results and Team Scores\nGirls’ Individual Results and Team Scores
URL:https://aliasracemanagement.com/event/sijhsaa-regional-at-chester/
LOCATION:Chester HS Track\, 74 Hoppe Dr\, Chester\, IL\, 62233\, United States
CATEGORIES:2022Track & Field Meet Results
ORGANIZER;CN="Kaela Powley":MAILTO:kpowley12@gmail.com
END:VEVENT
BEGIN:VEVENT
DTSTART;TZID=America/Chicago:20220423T100000
DTEND;TZID=America/Chicago:20220423T160000
DTSTAMP:20260423T070043
CREATED:20220222T160417Z
LAST-MODIFIED:20220423T190516Z
UID:1845-1650708000-1650729600@aliasracemanagement.com
SUMMARY:RBC Invitational Meet April 23\, 2022
DESCRIPTION:Boys’ Individual Results and Team Scores\nGirls’ Individual Results and Team Scores
URL:https://aliasracemanagement.com/event/rbc-invitational-meet-april-23-2022/
LOCATION:Red Bud High School Track\, 601 Westfield Court\, Red Bud\, IL\, 62278\, United States
CATEGORIES:2022Track & Field Meet Results
ORGANIZER;CN="Donna Trost":MAILTO:trost@htc.net
END:VEVENT
BEGIN:VEVENT
DTSTART;TZID=America/Chicago:20220420T123000
DTEND;TZID=America/Chicago:20220420T170000
DTSTAMP:20260423T070043
CREATED:20220222T155652Z
LAST-MODIFIED:20220420T214741Z
UID:1840-1650457800-1650474000@aliasracemanagement.com
SUMMARY:OVC Conference Junior Meet April 20\, 2022
DESCRIPTION:Boys’ Individual Results and Team Scores\nGirls’ Individual Results and Team Scores
URL:https://aliasracemanagement.com/event/ovc-conference-junior-meet-april-13-2022/
LOCATION:Chester HS Track\, 74 Hoppe Dr\, Chester\, IL\, 62233\, United States
CATEGORIES:2022Track & Field Meet Results
ORGANIZER;CN="Kaela Powley":MAILTO:kpowley12@gmail.com
END:VEVENT
BEGIN:VEVENT
DTSTART;TZID=America/Chicago:20220419T160000
DTEND;TZID=America/Chicago:20220419T190000
DTSTAMP:20260423T070043
CREATED:20220222T160227Z
LAST-MODIFIED:20220420T020028Z
UID:1843-1650384000-1650394800@aliasracemanagement.com
SUMMARY:Chester HS Rocky Bridges Invitational April 19\, 2022
DESCRIPTION:Boys’ Individual Results and Team Scores\nGirls’ Individual Results and Team Scores
URL:https://aliasracemanagement.com/event/chester-hs-rocky-bridges-invitational-april-19-2022/
LOCATION:Chester HS Track\, 74 Hoppe Dr\, Chester\, IL\, 62233\, United States
CATEGORIES:2022Track & Field Meet Results
ORGANIZER;CN="Bryce Bainter":MAILTO:brycebainter@chester139.com
END:VEVENT
BEGIN:VEVENT
DTSTART;TZID=America/Chicago:20220409T100000
DTEND;TZID=America/Chicago:20220409T160000
DTSTAMP:20260423T070043
CREATED:20220222T155411Z
LAST-MODIFIED:20220409T210503Z
UID:1838-1649498400-1649520000@aliasracemanagement.com
SUMMARY:Carterville Lion Invite\,  April 9\, 2022
DESCRIPTION:Boys’ individual results and team scores.\nGirls’ individual results and team scores.
URL:https://aliasracemanagement.com/event/carterville-hs-invitational-april-9-2022/
LOCATION:Carterville HS Track\, 1415 W Grand Ave\, Carterville\, IL\, 62918\, United States
CATEGORIES:2022Track & Field Meet Results
ORGANIZER;CN="Brett Diel":MAILTO:bdiel@cartervilleschools.org
END:VEVENT
BEGIN:VEVENT
DTSTART;TZID=America/Chicago:20220407T160000
DTEND;TZID=America/Chicago:20220407T190000
DTSTAMP:20260423T070043
CREATED:20220222T155212Z
LAST-MODIFIED:20220408T020258Z
UID:1836-1649347200-1649358000@aliasracemanagement.com
SUMMARY:Chester F/S Invitational April 7\, 2022
DESCRIPTION:Boys’ Individual Results and Team Scores\nGirls’ Individual Results and Team Scores
URL:https://aliasracemanagement.com/event/chester-f-s-invitational-meet-april-7-2022/
LOCATION:Chester HS Track\, 74 Hoppe Dr\, Chester\, IL\, 62233\, United States
CATEGORIES:2022Track & Field Meet Results
ORGANIZER;CN="Bryce Bainter":MAILTO:brycebainter@chester139.com
END:VEVENT
BEGIN:VEVENT
DTSTART;TZID=America/Chicago:20220406T120000
DTEND;TZID=America/Chicago:20220406T163000
DTSTAMP:20260423T070043
CREATED:20220222T154824Z
LAST-MODIFIED:20220406T225737Z
UID:1833-1649246400-1649262600@aliasracemanagement.com
SUMMARY:OVC Conference Senior Meet April 6\,2022
DESCRIPTION:Boys’ Individual Results and Team Scores\nGirls’ Individual Results and Team Scores
URL:https://aliasracemanagement.com/event/ovc-conference-senior-meet-2022/
LOCATION:Chester HS Track\, 74 Hoppe Dr\, Chester\, IL\, 62233\, United States
CATEGORIES:2022Track & Field Meet Results
ORGANIZER;CN="Kaela Powley":MAILTO:kpowley12@gmail.com
END:VEVENT
BEGIN:VEVENT
DTSTART;TZID=America/Chicago:20220329T160000
DTEND;TZID=America/Chicago:20220329T190000
DTSTAMP:20260423T070043
CREATED:20220218T180103Z
LAST-MODIFIED:20220406T230416Z
UID:1830-1648569600-1648580400@aliasracemanagement.com
SUMMARY:Chester HS Co-ed Meet March 29\, 2022
DESCRIPTION:Boys’ Individual Results and Team Scores\nGirls’ Individual Results and Team Scores
URL:https://aliasracemanagement.com/event/chester-hs-coed-meet-march-29-2022/
LOCATION:Chester HS Track\, 74 Hoppe Dr\, Chester\, IL\, 62233\, United States
CATEGORIES:2022Track & Field Meet Results
ORGANIZER;CN="Bryce Bainter":MAILTO:brycebainter@chester139.com
END:VEVENT
BEGIN:VEVENT
DTSTART;TZID=America/Chicago:20220324T160000
DTEND;TZID=America/Chicago:20220324T190000
DTSTAMP:20260423T070043
CREATED:20220218T175822Z
LAST-MODIFIED:20220329T025540Z
UID:1828-1648137600-1648148400@aliasracemanagement.com
SUMMARY:Chester HS Co-ed Meet\, March 24\, 2022
DESCRIPTION:THIS MEET HAS BEEN CANCELED DUE TO INCLIMATE WEATHER.
URL:https://aliasracemanagement.com/event/chester-coed-meet-march-24-2022/
LOCATION:Chester HS Track\, 74 Hoppe Dr\, Chester\, IL\, 62233\, United States
CATEGORIES:2022Track & Field Meet Results
ORGANIZER;CN="Bryce Bainter":MAILTO:brycebainter@chester139.com
END:VEVENT
END:VCALENDAR