BEGIN:VCALENDAR
VERSION:2.0
PRODID:-//Alias Race Management - ECPv6.15.20//NONSGML v1.0//EN
CALSCALE:GREGORIAN
METHOD:PUBLISH
X-ORIGINAL-URL:https://aliasracemanagement.com
X-WR-CALDESC:Events for Alias Race Management
REFRESH-INTERVAL;VALUE=DURATION:PT1H
X-Robots-Tag:noindex
X-PUBLISHED-TTL:PT1H
BEGIN:VTIMEZONE
TZID:America/Chicago
BEGIN:DAYLIGHT
TZOFFSETFROM:-0600
TZOFFSETTO:-0500
TZNAME:CDT
DTSTART:20200308T080000
END:DAYLIGHT
BEGIN:STANDARD
TZOFFSETFROM:-0500
TZOFFSETTO:-0600
TZNAME:CST
DTSTART:20201101T070000
END:STANDARD
BEGIN:DAYLIGHT
TZOFFSETFROM:-0600
TZOFFSETTO:-0500
TZNAME:CDT
DTSTART:20210314T080000
END:DAYLIGHT
BEGIN:STANDARD
TZOFFSETFROM:-0500
TZOFFSETTO:-0600
TZNAME:CST
DTSTART:20211107T070000
END:STANDARD
BEGIN:DAYLIGHT
TZOFFSETFROM:-0600
TZOFFSETTO:-0500
TZNAME:CDT
DTSTART:20220313T080000
END:DAYLIGHT
BEGIN:STANDARD
TZOFFSETFROM:-0500
TZOFFSETTO:-0600
TZNAME:CST
DTSTART:20221106T070000
END:STANDARD
END:VTIMEZONE
BEGIN:VEVENT
DTSTART;TZID=America/Chicago:20211016T080000
DTEND;TZID=America/Chicago:20211016T120000
DTSTAMP:20260421T030803
CREATED:20210610T130856Z
LAST-MODIFIED:20211018T003652Z
UID:1547-1634371200-1634385600@aliasracemanagement.com
SUMMARY:Cahokia Conference Meet 2021
DESCRIPTION:Kaskaskia Division\nBoys’ Results – Varsity – Team Scores          Girls’ Results – Varsity – Team Scores\nIllinois Division\nBoys’ Results – Varsity – Team Scores          Girls’ Results – Varsity – Team Scores\nMississippi Division\nBoys’ Results – Varsity – Team Scores         Girls’ Results – Varsity – Team Scores\nOverall Boys’ Varsity Placing – Overall Girls’ Varsity Placing
URL:https://aliasracemanagement.com/event/cahokia-conference-meet-2021/
LOCATION:Okaw Valley Park\, 101 St. Clair St.\,\, New Athens\, IL\, 62264
CATEGORIES:2021 Cross Country Race Results
END:VEVENT
BEGIN:VEVENT
DTSTART;TZID=America/Chicago:20211008T160000
DTEND;TZID=America/Chicago:20211008T180000
DTSTAMP:20260421T030803
CREATED:20210709T142251Z
LAST-MODIFIED:20211010T010501Z
UID:1575-1633708800-1633716000@aliasracemanagement.com
SUMMARY:Mascoutah SIJHSAA Regional 2021
DESCRIPTION:Boys’ Results – Varsity Overall – Team Scores\nGirls’ Results – Varsity Overall – Team Scores
URL:https://aliasracemanagement.com/event/mascoutah-sijhsaa-regional-2021/
LOCATION:Mascoutah JH\, 846 N 6th St\, Mascoutah\, Illnois\, 62258
CATEGORIES:2021 Cross Country Race Results
ORGANIZER;CN="Darren Latham":MAILTO:lathamd@msd19.org
END:VEVENT
BEGIN:VEVENT
DTSTART;TZID=America/Chicago:20211006T160000
DTEND;TZID=America/Chicago:20211006T180000
DTSTAMP:20260421T030803
CREATED:20210621T203040Z
LAST-MODIFIED:20211007T140105Z
UID:1563-1633536000-1633543200@aliasracemanagement.com
SUMMARY:OVC Conference Meet 2021
DESCRIPTION:Boys’ Results – Overall – Team Scores\nGirls’ Results – Overall – Team Scores
URL:https://aliasracemanagement.com/event/ovc-conference-meet-2021/
LOCATION:Randolph Co Lake JH\, 4380 N. Lake Dr.\, Chester\, Illinois\, 62233
CATEGORIES:2021 Cross Country Race Results
ORGANIZER;CN="Justin Palm":MAILTO:jpalm@stjohnsredbud.org
END:VEVENT
BEGIN:VEVENT
DTSTART;TZID=America/Chicago:20211005T160000
DTEND;TZID=America/Chicago:20211005T173000
DTSTAMP:20260421T030803
CREATED:20210610T130520Z
LAST-MODIFIED:20211006T183011Z
UID:1545-1633449600-1633455000@aliasracemanagement.com
SUMMARY:Marissa SIJHSAA Regional 2021
DESCRIPTION:Boys’ Results – Varsity Overall – Team Scores\nGirls’ Results – Varsity Overall – Team Scores
URL:https://aliasracemanagement.com/event/marissa-sijhsaa-regional-2/
LOCATION:Marissa JR/SR HS\, 300 School View Dr.\, Marissa\, IL\, 62257\, United States
CATEGORIES:2021 Cross Country Race Results
ORGANIZER;CN="Matt Espenschied":MAILTO:mespenschied@marissa40.org
END:VEVENT
BEGIN:VEVENT
DTSTART;TZID=America/Chicago:20211004T160000
DTEND;TZID=America/Chicago:20211004T173000
DTSTAMP:20260421T030803
CREATED:20210813T232040Z
LAST-MODIFIED:20211005T180656Z
UID:1610-1633363200-1633368600@aliasracemanagement.com
SUMMARY:Chester JH Invitational 2021
DESCRIPTION:Boys’ Results – Varsity Overall – Team Scores – JV Overall\nGirls’ Results – Varsity Overall – Team Scores – JV Overall
URL:https://aliasracemanagement.com/event/chester-jh-invitational-i-2021/
LOCATION:Randolph Co Lake JH\, 4380 N. Lake Dr.\, Chester\, Illinois\, 62233
CATEGORIES:2021 Cross Country Race Results
ORGANIZER;CN="Tim Blair":MAILTO:timblair@chester139.com
END:VEVENT
BEGIN:VEVENT
DTSTART;TZID=America/Chicago:20211002T090000
DTEND;TZID=America/Chicago:20211002T120000
DTSTAMP:20260421T030803
CREATED:20210616T014605Z
LAST-MODIFIED:20211003T204337Z
UID:1554-1633165200-1633176000@aliasracemanagement.com
SUMMARY:Trenton Wesclin Invitational 2021
DESCRIPTION:Boys’ Results –Varsity Results – Team Scores – Open Results\nGirls’ Results – Varsity Results – Team Scores – Open Results
URL:https://aliasracemanagement.com/event/trenton-wesclin-invitational-2/
LOCATION:Wesclin High School\, 699 Wesclin Rd.\, Trenton\, Illinois\, 62293
CATEGORIES:2021 Cross Country Race Results
ORGANIZER;CN="Tyler Weis":MAILTO:weist@wesclin.org
END:VEVENT
BEGIN:VEVENT
DTSTART;TZID=America/Chicago:20210930T163000
DTEND;TZID=America/Chicago:20210930T183000
DTSTAMP:20260421T030803
CREATED:20210610T130205Z
LAST-MODIFIED:20211001T205850Z
UID:1543-1633019400-1633026600@aliasracemanagement.com
SUMMARY:Chester Invitational 2021
DESCRIPTION:Boys’ Results – Overall – Varsity – Fresh/Soph – Team Scores\nGirls’ Results – Overall – Varsity – Fresh/Soph – Team Scores\nCombined Teams Scores
URL:https://aliasracemanagement.com/event/chester-invitational-2021/
LOCATION:Randolph Co Lake\, N. Lake Dr.\, Chester\, IL\, 62233\, United States
CATEGORIES:2021 Cross Country Race Results
ORGANIZER;CN="Bryce Bainter":MAILTO:brycebainter@chester139.com
END:VEVENT
BEGIN:VEVENT
DTSTART;TZID=America/Chicago:20210925T083000
DTEND;TZID=America/Chicago:20210925T113000
DTSTAMP:20260421T030803
CREATED:20210607T131644Z
LAST-MODIFIED:20210926T181836Z
UID:1538-1632558600-1632569400@aliasracemanagement.com
SUMMARY:Freeburg Invitational 2021
DESCRIPTION:Boys’ Results – Varsity Overall – Team Scores – JV Overall – JV Team\nGirls’ Results – Varsity Overall – Team Scores – JV Overall – JV Team\n 
URL:https://aliasracemanagement.com/event/freeburg-invitational-2021/
LOCATION:Smithton Village Park\, Park Rd\, Smithton\, IL\, 62285\, United States
CATEGORIES:2021 Cross Country Race Results
ORGANIZER;CN="Carl Florczyk":MAILTO:florczcd@fchs77.org
END:VEVENT
BEGIN:VEVENT
DTSTART;TZID=America/Chicago:20210924T150000
DTEND;TZID=America/Chicago:20210924T170000
DTSTAMP:20260421T030803
CREATED:20210610T125617Z
LAST-MODIFIED:20210926T170421Z
UID:1540-1632495600-1632502800@aliasracemanagement.com
SUMMARY:Marissa JH Conference Meet 2021
DESCRIPTION:Boys’ Results:\nLarge School — Varsity Overall – Team Scores\nSmall School — Varsity Overall – Team Scores\nOpen Race\nGirls’ Results:\nLarge School — Varsity Overall – Team Scores\nSmall School — Varsity Overall – Team Scores\nOpen Race
URL:https://aliasracemanagement.com/event/marissa-jh-conference-meet-2021/
LOCATION:Marissa Recreation Lake\, 410 State Rt. 4\, Marissa\, IL\, 62257
CATEGORIES:2021 Cross Country Race Results
ORGANIZER;CN="Matt Espenschied":MAILTO:mespenschied@marissa40.org
END:VEVENT
BEGIN:VEVENT
DTSTART;TZID=America/Chicago:20210918T090000
DTEND;TZID=America/Chicago:20210918T120000
DTSTAMP:20260421T030803
CREATED:20210611T140524Z
LAST-MODIFIED:20210919T014603Z
UID:1552-1631955600-1631966400@aliasracemanagement.com
SUMMARY:AGS/D12 JH Invitational Meet 2021
DESCRIPTION:Boys’ Results –Overall Results – Team Scores\nGirls’ Results – Overall Results – Team Scores
URL:https://aliasracemanagement.com/event/mascoutah-invitational-meet/
LOCATION:Breese Central High School\, 7740 Old U.S. Hwy 50\, Breese\, IL\, 62230\, United States
CATEGORIES:2021 Cross Country Race Results
ORGANIZER;CN="Noah Hollenkamp":MAILTO:hollenkampnoah@gmail.com
END:VEVENT
BEGIN:VEVENT
DTSTART;TZID=America/Chicago:20210914T150000
DTEND;TZID=America/Chicago:20210914T183000
DTSTAMP:20260421T030803
CREATED:20210910T004306Z
LAST-MODIFIED:20210916T025219Z
UID:1682-1631631600-1631644200@aliasracemanagement.com
SUMMARY:Sparta JH/HS Invitational
DESCRIPTION:Junior High Results\nBoys’ Results –Overall Results – Team Scores\nGirls’ Results –Overall Results – Team Scores\nHigh School Results\nBoys’ Results –Overall Results – Team Scores\nGirls’ Results –Overall Results – Team Scores
URL:https://aliasracemanagement.com/event/sparta-jh-hs-invitational/
LOCATION:World Shooting Complex\, 1Main Event Ln #510\, Sparta\, IL\, 62286\, United States
CATEGORIES:2021 Cross Country Race Results
END:VEVENT
BEGIN:VEVENT
DTSTART;TZID=America/Chicago:20210913T160000
DTEND;TZID=America/Chicago:20210913T173000
DTSTAMP:20260421T030803
CREATED:20210812T185054Z
LAST-MODIFIED:20210914T012717Z
UID:1595-1631548800-1631554200@aliasracemanagement.com
SUMMARY:Evansville JH Invitational 2021
DESCRIPTION:Boys’ Results –Overall Results – Team Scores\nGirls’ Results –Overall Results – Team Scores
URL:https://aliasracemanagement.com/event/evansville-jh-invitational/
LOCATION:COSLHS\, 810 Soldiers Way\, Evansville\, IL\, 62242\, United States
CATEGORIES:2021 Cross Country Race Results
ORGANIZER;CN="Rebecca Juelfs":MAILTO:rjuelfs@sparta.k12.il.us
END:VEVENT
BEGIN:VEVENT
DTSTART;TZID=America/Chicago:20210907T170000
DTEND;TZID=America/Chicago:20210907T190000
DTSTAMP:20260421T030803
CREATED:20210607T130034Z
LAST-MODIFIED:20210908T144551Z
UID:1534-1631034000-1631041200@aliasracemanagement.com
SUMMARY:Marissa Invitational 2021
DESCRIPTION:Boys’ Results – Varsity Overall – Team Scores\nGirls’ Results – Varsity Overall – Team Scores
URL:https://aliasracemanagement.com/event/marissa-invitational-2021/
LOCATION:Marissa Recreation Lake\, 410 State Rt. 4\, Marissa\, IL\, 62257
CATEGORIES:2021 Cross Country Race Results
ORGANIZER;CN="Matt Espenschied":MAILTO:mespenschied@marissa40.org
END:VEVENT
BEGIN:VEVENT
DTSTART;TZID=America/Chicago:20210903T160000
DTEND;TZID=America/Chicago:20210903T173000
DTSTAMP:20260421T030803
CREATED:20210812T185412Z
LAST-MODIFIED:20210905T125450Z
UID:1599-1630684800-1630690200@aliasracemanagement.com
SUMMARY:Goreville JH Invitational 2021
DESCRIPTION:Boys Results – Overall Results  –  Team Scores\nGirls Results  –  Overall Results  –  Team Scores
URL:https://aliasracemanagement.com/event/goreville-jh-invitational-2021/
LOCATION:Ferne Clyffe State Park\, Ferne Clyffe State Park\, Goreville\, Illinois\, 62939
CATEGORIES:2021 Cross Country Race Results
ORGANIZER;CN="Todd Tripp":MAILTO:toddtripp@gorevilleschools.com
END:VEVENT
BEGIN:VEVENT
DTSTART;TZID=America/Chicago:20210828T080000
DTEND;TZID=America/Chicago:20210828T120000
DTSTAMP:20260421T030803
CREATED:20210611T140113Z
LAST-MODIFIED:20210910T120252Z
UID:1549-1630137600-1630152000@aliasracemanagement.com
SUMMARY:Mascoutah Kickoff Meet 2021
DESCRIPTION: Junior High Races\nBoys’ Results – Overall – Team Scores – JV Overall\nGirls’ Results – Overall – Team Scores – JV Overall\nHigh School Races\nBoys’ Results – Varsity Overall – Team Scores – JV Overall\nGirls’ Results – Varsity Overall – Team Scores – JV Overall
URL:https://aliasracemanagement.com/event/mascoutah-kickoff-meet-2021/
LOCATION:Mascoutah JH\, 846 N 6th St\, Mascoutah\, Illnois\, 62258
CATEGORIES:2021 Cross Country Race Results
ORGANIZER;CN="Darren Latham":MAILTO:lathamd@msd19.org
END:VEVENT
BEGIN:VEVENT
DTSTART;TZID=America/Chicago:20210823T180000
DTEND;TZID=America/Chicago:20210823T193000
DTSTAMP:20260421T030803
CREATED:20201028T213149Z
LAST-MODIFIED:20210825T133924Z
UID:1362-1629741600-1629747000@aliasracemanagement.com
SUMMARY:New Athens Invitational 2021
DESCRIPTION:Boys’ Results – Varsity Overall – Team Scores\nGirls’ Results – Varsity Overall – Team Scores
URL:https://aliasracemanagement.com/event/no-current-events/
LOCATION:Okaw Valley Park\, 101 St. Clair St.\,\, New Athens\, IL\, 62264
CATEGORIES:2021 Cross Country Race Results
END:VEVENT
END:VCALENDAR