BEGIN:VCALENDAR
VERSION:2.0
PRODID:-//Alias Race Management - ECPv6.15.20//NONSGML v1.0//EN
CALSCALE:GREGORIAN
METHOD:PUBLISH
X-ORIGINAL-URL:https://aliasracemanagement.com
X-WR-CALDESC:Events for Alias Race Management
REFRESH-INTERVAL;VALUE=DURATION:PT1H
X-Robots-Tag:noindex
X-PUBLISHED-TTL:PT1H
BEGIN:VTIMEZONE
TZID:America/Chicago
BEGIN:DAYLIGHT
TZOFFSETFROM:-0600
TZOFFSETTO:-0500
TZNAME:CDT
DTSTART:20170312T080000
END:DAYLIGHT
BEGIN:STANDARD
TZOFFSETFROM:-0500
TZOFFSETTO:-0600
TZNAME:CST
DTSTART:20171105T070000
END:STANDARD
BEGIN:DAYLIGHT
TZOFFSETFROM:-0600
TZOFFSETTO:-0500
TZNAME:CDT
DTSTART:20180311T080000
END:DAYLIGHT
BEGIN:STANDARD
TZOFFSETFROM:-0500
TZOFFSETTO:-0600
TZNAME:CST
DTSTART:20181104T070000
END:STANDARD
BEGIN:DAYLIGHT
TZOFFSETFROM:-0600
TZOFFSETTO:-0500
TZNAME:CDT
DTSTART:20190310T080000
END:DAYLIGHT
BEGIN:STANDARD
TZOFFSETFROM:-0500
TZOFFSETTO:-0600
TZNAME:CST
DTSTART:20191103T070000
END:STANDARD
END:VTIMEZONE
BEGIN:VEVENT
DTSTART;VALUE=DATE:20181020
DTEND;VALUE=DATE:20181021
DTSTAMP:20260423T034948
CREATED:20200726T230521Z
LAST-MODIFIED:20200726T230521Z
UID:1078-1539993600-1540079999@aliasracemanagement.com
SUMMARY:Freeburg IHSA Regional
DESCRIPTION:Boys’ Results – Overall – Team Scores\nGirls’ Results – Overall – Team Scores
URL:https://aliasracemanagement.com/event/freeburg-ihsa-regional/
CATEGORIES:2018 Cross Country Race Results
END:VEVENT
BEGIN:VEVENT
DTSTART;VALUE=DATE:20181013
DTEND;VALUE=DATE:20181014
DTSTAMP:20260423T034948
CREATED:20200726T225906Z
LAST-MODIFIED:20200726T225906Z
UID:1076-1539388800-1539475199@aliasracemanagement.com
SUMMARY:Cahokia Conference Meet
DESCRIPTION:Kaskaskia Division\nBoys’ Results – Varsity – Team Scores\nGirls’ Results – Varsity – Team Scores\nMississippi Division\nBoys’ Results – Varsity – Team Scores\nGirls’ Results – Varsity – Team Scores\n  \nOverall Boys’ Varsity Placing – Overall Girls’ Varsity Placing\nBoys’ Open Race – Girls’ Open Race
URL:https://aliasracemanagement.com/event/cahokia-conference-meet-2/
CATEGORIES:2018 Cross Country Race Results
END:VEVENT
BEGIN:VEVENT
DTSTART;VALUE=DATE:20181011
DTEND;VALUE=DATE:20181012
DTSTAMP:20260423T034948
CREATED:20200726T224909Z
LAST-MODIFIED:20200726T224909Z
UID:1074-1539216000-1539302399@aliasracemanagement.com
SUMMARY:Black Diamond Conference Meet
DESCRIPTION:Boys’ – Overall – Team Scores\nGirls’ – Overall – Team Scores
URL:https://aliasracemanagement.com/event/black-diamond-conference-meet/
CATEGORIES:2018 Cross Country Race Results
END:VEVENT
BEGIN:VEVENT
DTSTART;VALUE=DATE:20181010
DTEND;VALUE=DATE:20181011
DTSTAMP:20260423T034948
CREATED:20200726T224501Z
LAST-MODIFIED:20200726T224501Z
UID:1072-1539129600-1539215999@aliasracemanagement.com
SUMMARY:OVC Conference Meet
DESCRIPTION:Boys’ – Overall – Team Scores\nGirls’ – Overall – Team Scores
URL:https://aliasracemanagement.com/event/ovc-conference-meet-2/
CATEGORIES:2018 Cross Country Race Results
END:VEVENT
BEGIN:VEVENT
DTSTART;VALUE=DATE:20180927
DTEND;VALUE=DATE:20180928
DTSTAMP:20260423T034948
CREATED:20200726T223043Z
LAST-MODIFIED:20200726T223533Z
UID:1068-1538006400-1538092799@aliasracemanagement.com
SUMMARY:Chester Invitational
DESCRIPTION:Boys’ Results – Overall – Varsity – Frosh/Soph – Team Scores\nGirls’ Results – Overall – Varsity – Frosh/Soph – Team Scores\nCombined Team Scores
URL:https://aliasracemanagement.com/event/chester-invitational-2/
CATEGORIES:2018 Cross Country Race Results
END:VEVENT
BEGIN:VEVENT
DTSTART;VALUE=DATE:20180922
DTEND;VALUE=DATE:20180923
DTSTAMP:20260423T034948
CREATED:20200725T024449Z
LAST-MODIFIED:20200725T024449Z
UID:1064-1537574400-1537660799@aliasracemanagement.com
SUMMARY:Freeburg Invitational
DESCRIPTION:Boys’ Results – Varsity Overall – Varsity Team Scores – JV Overall\nGirls’ Results – Varsity Overall – Varsity Team Scores – JV Overall
URL:https://aliasracemanagement.com/event/freeburg-invitational-2/
CATEGORIES:2018 Cross Country Race Results
END:VEVENT
BEGIN:VEVENT
DTSTART;VALUE=DATE:20180918
DTEND;VALUE=DATE:20180919
DTSTAMP:20260423T034948
CREATED:20200725T023637Z
LAST-MODIFIED:20200725T023637Z
UID:1062-1537228800-1537315199@aliasracemanagement.com
SUMMARY:Goreville Invitational
DESCRIPTION:Boys’ Results – Overall – Team Scores\nGirls’ Results – Overall – Team Scores
URL:https://aliasracemanagement.com/event/goreville-invitational-2/
CATEGORIES:2018 Cross Country Race Results
END:VEVENT
BEGIN:VEVENT
DTSTART;VALUE=DATE:20180820
DTEND;VALUE=DATE:20180821
DTSTAMP:20260423T034948
CREATED:20200725T022906Z
LAST-MODIFIED:20200725T022906Z
UID:1059-1534723200-1534809599@aliasracemanagement.com
SUMMARY:New Athens Invitational
DESCRIPTION:Boys’ Results – Overall – Team Scores\nGirls’ Results – Overall – Team Scores
URL:https://aliasracemanagement.com/event/new-athens-invitational-3/
CATEGORIES:2018 Cross Country Race Results
END:VEVENT
END:VCALENDAR