BEGIN:VCALENDAR
VERSION:2.0
PRODID:-//Alias Race Management - ECPv6.15.20//NONSGML v1.0//EN
CALSCALE:GREGORIAN
METHOD:PUBLISH
X-ORIGINAL-URL:https://aliasracemanagement.com
X-WR-CALDESC:Events for Alias Race Management
REFRESH-INTERVAL;VALUE=DURATION:PT1H
X-Robots-Tag:noindex
X-PUBLISHED-TTL:PT1H
BEGIN:VTIMEZONE
TZID:America/Chicago
BEGIN:DAYLIGHT
TZOFFSETFROM:-0600
TZOFFSETTO:-0500
TZNAME:CDT
DTSTART:20150308T080000
END:DAYLIGHT
BEGIN:STANDARD
TZOFFSETFROM:-0500
TZOFFSETTO:-0600
TZNAME:CST
DTSTART:20151101T070000
END:STANDARD
BEGIN:DAYLIGHT
TZOFFSETFROM:-0600
TZOFFSETTO:-0500
TZNAME:CDT
DTSTART:20160313T080000
END:DAYLIGHT
BEGIN:STANDARD
TZOFFSETFROM:-0500
TZOFFSETTO:-0600
TZNAME:CST
DTSTART:20161106T070000
END:STANDARD
BEGIN:DAYLIGHT
TZOFFSETFROM:-0600
TZOFFSETTO:-0500
TZNAME:CDT
DTSTART:20170312T080000
END:DAYLIGHT
BEGIN:STANDARD
TZOFFSETFROM:-0500
TZOFFSETTO:-0600
TZNAME:CST
DTSTART:20171105T070000
END:STANDARD
END:VTIMEZONE
BEGIN:VEVENT
DTSTART;VALUE=DATE:20161203
DTEND;VALUE=DATE:20161204
DTSTAMP:20260425T053812
CREATED:20200808T230706Z
LAST-MODIFIED:20200808T230706Z
UID:1167-1480723200-1480809599@aliasracemanagement.com
SUMMARY:Columbia Eagle Sprint 5K/10K
DESCRIPTION:5K Overall Results – 5K Age Group Results\n10K Overall Results – 10K Age Group Results
URL:https://aliasracemanagement.com/event/columbia-eagle-sprint-5k-10k-2/
CATEGORIES:2016 Race Results
END:VEVENT
END:VCALENDAR